BEGIN:VCALENDAR
VERSION:2.0
PRODID:-//National Scleroderma Foundation - ECPv6.15.20//NONSGML v1.0//EN
CALSCALE:GREGORIAN
METHOD:PUBLISH
X-WR-CALNAME:National Scleroderma Foundation
X-ORIGINAL-URL:https://scleroderma.org
X-WR-CALDESC:Events for National Scleroderma Foundation
REFRESH-INTERVAL;VALUE=DURATION:PT1H
X-Robots-Tag:noindex
X-PUBLISHED-TTL:PT1H
BEGIN:VTIMEZONE
TZID:America/New_York
BEGIN:DAYLIGHT
TZOFFSETFROM:-0500
TZOFFSETTO:-0400
TZNAME:EDT
DTSTART:20250309T070000
END:DAYLIGHT
BEGIN:STANDARD
TZOFFSETFROM:-0400
TZOFFSETTO:-0500
TZNAME:EST
DTSTART:20251102T060000
END:STANDARD
BEGIN:DAYLIGHT
TZOFFSETFROM:-0500
TZOFFSETTO:-0400
TZNAME:EDT
DTSTART:20260308T070000
END:DAYLIGHT
BEGIN:STANDARD
TZOFFSETFROM:-0400
TZOFFSETTO:-0500
TZNAME:EST
DTSTART:20261101T060000
END:STANDARD
BEGIN:DAYLIGHT
TZOFFSETFROM:-0500
TZOFFSETTO:-0400
TZNAME:EDT
DTSTART:20270314T070000
END:DAYLIGHT
BEGIN:STANDARD
TZOFFSETFROM:-0400
TZOFFSETTO:-0500
TZNAME:EST
DTSTART:20271107T060000
END:STANDARD
END:VTIMEZONE
BEGIN:VTIMEZONE
TZID:America/Puerto_Rico
BEGIN:STANDARD
TZOFFSETFROM:-0400
TZOFFSETTO:-0400
TZNAME:AST
DTSTART:20250101T000000
END:STANDARD
END:VTIMEZONE
BEGIN:VEVENT
DTSTART;TZID=America/New_York:20260304T170000
DTEND;TZID=America/New_York:20260304T180000
DTSTAMP:20260425T103827
CREATED:20250911T182008Z
LAST-MODIFIED:20260302T162617Z
UID:10002969-1772643600-1772647200@scleroderma.org
SUMMARY:Raynaud's/Scleroderma Support Group
DESCRIPTION:This support group is in-person. \nFor more information\, please email support@scleroderma.org
URL:https://scleroderma.org/event/raynauds-scleroderma-support-group-in-person/2026-03-04/
LOCATION:FL
CATEGORIES:Events,South Chapter Events,South Chapter Support Groups,Support Groups
ATTACH;FMTTYPE=image/png:https://scleroderma.org/wp-content/uploads/2025/09/Raynauds-Support-Group.png
END:VEVENT
BEGIN:VEVENT
DTSTART;TZID=America/New_York:20260304T190000
DTEND;TZID=America/New_York:20260304T200000
DTSTAMP:20260425T103827
CREATED:20250910T205050Z
LAST-MODIFIED:20250915T182847Z
UID:10000939-1772650800-1772654400@scleroderma.org
SUMMARY:Florida & Puerto Rico (Wednesday Meeting)
DESCRIPTION:To register & for more information\, please email djames@scleroderma.org
URL:https://scleroderma.org/event/florida-puerto-rico-wednesday-meeting/2026-03-04/
LOCATION:https://scleroderma.org/event/florida-puerto-rico-wednesday-meeting/2026-03-04/
CATEGORIES:Events,Florida & Puerto Rico Events,Florida & Puerto Rico Support Groups,Support Groups
ATTACH;FMTTYPE=image/png:https://scleroderma.org/wp-content/uploads/2025/09/FL-PR-Wednesday-1.png
END:VEVENT
BEGIN:VEVENT
DTSTART;TZID=America/Puerto_Rico:20260304T190000
DTEND;TZID=America/Puerto_Rico:20260304T200000
DTSTAMP:20260425T103827
CREATED:20250910T211538Z
LAST-MODIFIED:20250915T182551Z
UID:10000999-1772650800-1772654400@scleroderma.org
SUMMARY:Puerto Rico Voces Boricuas Unidas
DESCRIPTION:To register & for more information\, please email floridaprchapter@scleroderma.org
URL:https://scleroderma.org/event/puerto-rico-voces-boricuas-unidas/2026-03-04/
LOCATION:
CATEGORIES:Events,Florida & Puerto Rico Events,Florida & Puerto Rico Support Groups,Support Groups
ATTACH;FMTTYPE=image/png:https://scleroderma.org/wp-content/uploads/2025/09/PR-Voces-Boricuas-Unidas.png
END:VEVENT
END:VCALENDAR