BEGIN:VCALENDAR
VERSION:2.0
PRODID:-//National Scleroderma Foundation - ECPv6.15.20//NONSGML v1.0//EN
CALSCALE:GREGORIAN
METHOD:PUBLISH
X-WR-CALNAME:National Scleroderma Foundation
X-ORIGINAL-URL:https://scleroderma.org
X-WR-CALDESC:Events for National Scleroderma Foundation
REFRESH-INTERVAL;VALUE=DURATION:PT1H
X-Robots-Tag:noindex
X-PUBLISHED-TTL:PT1H
BEGIN:VTIMEZONE
TZID:America/Chicago
BEGIN:DAYLIGHT
TZOFFSETFROM:-0600
TZOFFSETTO:-0500
TZNAME:CDT
DTSTART:20250309T080000
END:DAYLIGHT
BEGIN:STANDARD
TZOFFSETFROM:-0500
TZOFFSETTO:-0600
TZNAME:CST
DTSTART:20251102T070000
END:STANDARD
BEGIN:DAYLIGHT
TZOFFSETFROM:-0600
TZOFFSETTO:-0500
TZNAME:CDT
DTSTART:20260308T080000
END:DAYLIGHT
BEGIN:STANDARD
TZOFFSETFROM:-0500
TZOFFSETTO:-0600
TZNAME:CST
DTSTART:20261101T070000
END:STANDARD
BEGIN:DAYLIGHT
TZOFFSETFROM:-0600
TZOFFSETTO:-0500
TZNAME:CDT
DTSTART:20270314T080000
END:DAYLIGHT
BEGIN:STANDARD
TZOFFSETFROM:-0500
TZOFFSETTO:-0600
TZNAME:CST
DTSTART:20271107T070000
END:STANDARD
END:VTIMEZONE
BEGIN:VEVENT
DTSTART;TZID=America/Chicago:20260415T183000
DTEND;TZID=America/Chicago:20260415T193000
DTSTAMP:20260425T090622
CREATED:20250911T185426Z
LAST-MODIFIED:20250915T211826Z
UID:10002692-1776277800-1776281400@scleroderma.org
SUMMARY:West Metro Support Group (MN)
DESCRIPTION:To register & for more information\, please email westmetrosupport_ugl@scleroderma.org
URL:https://scleroderma.org/event/west-metro-support-group-mn/2026-04-15/
LOCATION:https://scleroderma.org/event/west-metro-support-group-mn/2026-04-15/
CATEGORIES:Events,Support Groups,Upper Great Lakes Events,Upper Great Lakes Support Groups
ATTACH;FMTTYPE=image/png:https://scleroderma.org/wp-content/uploads/2025/09/West-Metro-MN-1.png
END:VEVENT
END:VCALENDAR