BEGIN:VCALENDAR
VERSION:2.0
PRODID:-//National Scleroderma Foundation - ECPv6.15.20//NONSGML v1.0//EN
CALSCALE:GREGORIAN
METHOD:PUBLISH
X-WR-CALNAME:National Scleroderma Foundation
X-ORIGINAL-URL:https://scleroderma.org
X-WR-CALDESC:Events for National Scleroderma Foundation
REFRESH-INTERVAL;VALUE=DURATION:PT1H
X-Robots-Tag:noindex
X-PUBLISHED-TTL:PT1H
BEGIN:VTIMEZONE
TZID:America/New_York
BEGIN:DAYLIGHT
TZOFFSETFROM:-0500
TZOFFSETTO:-0400
TZNAME:EDT
DTSTART:20250309T070000
END:DAYLIGHT
BEGIN:STANDARD
TZOFFSETFROM:-0400
TZOFFSETTO:-0500
TZNAME:EST
DTSTART:20251102T060000
END:STANDARD
BEGIN:DAYLIGHT
TZOFFSETFROM:-0500
TZOFFSETTO:-0400
TZNAME:EDT
DTSTART:20260308T070000
END:DAYLIGHT
BEGIN:STANDARD
TZOFFSETFROM:-0400
TZOFFSETTO:-0500
TZNAME:EST
DTSTART:20261101T060000
END:STANDARD
BEGIN:DAYLIGHT
TZOFFSETFROM:-0500
TZOFFSETTO:-0400
TZNAME:EDT
DTSTART:20270314T070000
END:DAYLIGHT
BEGIN:STANDARD
TZOFFSETFROM:-0400
TZOFFSETTO:-0500
TZNAME:EST
DTSTART:20271107T060000
END:STANDARD
END:VTIMEZONE
BEGIN:VTIMEZONE
TZID:America/Chicago
BEGIN:DAYLIGHT
TZOFFSETFROM:-0600
TZOFFSETTO:-0500
TZNAME:CDT
DTSTART:20250309T080000
END:DAYLIGHT
BEGIN:STANDARD
TZOFFSETFROM:-0500
TZOFFSETTO:-0600
TZNAME:CST
DTSTART:20251102T070000
END:STANDARD
BEGIN:DAYLIGHT
TZOFFSETFROM:-0600
TZOFFSETTO:-0500
TZNAME:CDT
DTSTART:20260308T080000
END:DAYLIGHT
BEGIN:STANDARD
TZOFFSETFROM:-0500
TZOFFSETTO:-0600
TZNAME:CST
DTSTART:20261101T070000
END:STANDARD
BEGIN:DAYLIGHT
TZOFFSETFROM:-0600
TZOFFSETTO:-0500
TZNAME:CDT
DTSTART:20270314T080000
END:DAYLIGHT
BEGIN:STANDARD
TZOFFSETFROM:-0500
TZOFFSETTO:-0600
TZNAME:CST
DTSTART:20271107T070000
END:STANDARD
END:VTIMEZONE
BEGIN:VTIMEZONE
TZID:America/Denver
BEGIN:DAYLIGHT
TZOFFSETFROM:-0700
TZOFFSETTO:-0600
TZNAME:MDT
DTSTART:20250309T090000
END:DAYLIGHT
BEGIN:STANDARD
TZOFFSETFROM:-0600
TZOFFSETTO:-0700
TZNAME:MST
DTSTART:20251102T080000
END:STANDARD
BEGIN:DAYLIGHT
TZOFFSETFROM:-0700
TZOFFSETTO:-0600
TZNAME:MDT
DTSTART:20260308T090000
END:DAYLIGHT
BEGIN:STANDARD
TZOFFSETFROM:-0600
TZOFFSETTO:-0700
TZNAME:MST
DTSTART:20261101T080000
END:STANDARD
BEGIN:DAYLIGHT
TZOFFSETFROM:-0700
TZOFFSETTO:-0600
TZNAME:MDT
DTSTART:20270314T090000
END:DAYLIGHT
BEGIN:STANDARD
TZOFFSETFROM:-0600
TZOFFSETTO:-0700
TZNAME:MST
DTSTART:20271107T080000
END:STANDARD
END:VTIMEZONE
BEGIN:VTIMEZONE
TZID:America/Puerto_Rico
BEGIN:STANDARD
TZOFFSETFROM:-0400
TZOFFSETTO:-0400
TZNAME:AST
DTSTART:20250101T000000
END:STANDARD
END:VTIMEZONE
BEGIN:VTIMEZONE
TZID:America/Los_Angeles
BEGIN:DAYLIGHT
TZOFFSETFROM:-0800
TZOFFSETTO:-0700
TZNAME:PDT
DTSTART:20250309T100000
END:DAYLIGHT
BEGIN:STANDARD
TZOFFSETFROM:-0700
TZOFFSETTO:-0800
TZNAME:PST
DTSTART:20251102T090000
END:STANDARD
BEGIN:DAYLIGHT
TZOFFSETFROM:-0800
TZOFFSETTO:-0700
TZNAME:PDT
DTSTART:20260308T100000
END:DAYLIGHT
BEGIN:STANDARD
TZOFFSETFROM:-0700
TZOFFSETTO:-0800
TZNAME:PST
DTSTART:20261101T090000
END:STANDARD
BEGIN:DAYLIGHT
TZOFFSETFROM:-0800
TZOFFSETTO:-0700
TZNAME:PDT
DTSTART:20270314T100000
END:DAYLIGHT
BEGIN:STANDARD
TZOFFSETFROM:-0700
TZOFFSETTO:-0800
TZNAME:PST
DTSTART:20271107T090000
END:STANDARD
END:VTIMEZONE
BEGIN:VEVENT
DTSTART;TZID=America/New_York:20260422T190000
DTEND;TZID=America/New_York:20260422T210000
DTSTAMP:20260422T072015
CREATED:20250910T233024Z
LAST-MODIFIED:20251001T211529Z
UID:10001481-1776884400-1776891600@scleroderma.org
SUMMARY:LGBTQ+ Scleroderma Support Group
DESCRIPTION:If you are interested in learning more\, please email\, LGBTQ@scleroderma.org\, with questions. \nClick here to register in advance. A link to the meeting will be made available after registration.
URL:https://scleroderma.org/event/lgbtq-support-group/2026-04-22/
LOCATION:Zoom\, Meeting link available after registration
CATEGORIES:National Support Groups,Support Groups
ATTACH;FMTTYPE=image/png:https://scleroderma.org/wp-content/uploads/2025/09/LGBTQ-Support-Group-1.png
END:VEVENT
BEGIN:VEVENT
DTSTART;TZID=America/New_York:20260422T190000
DTEND;TZID=America/New_York:20260422T210000
DTSTAMP:20260422T072015
CREATED:20251002T164231Z
LAST-MODIFIED:20260223T162033Z
UID:10003227-1776884400-1776891600@scleroderma.org
SUMMARY:The 20%: A Virtual Support Group for Males Living with Scleroderma
DESCRIPTION:Scleroderma diagnoses are less common amongst men. In fact\, only 20% of the patient population is made up of males. We’ve designed a support group especially for males with scleroderma. \nPlease click here to register in advance. A link to the meeting will be sent to you after registration. 
URL:https://scleroderma.org/event/the-20-support-group-for-males-living-with-scleroderma/2026-04-22/
LOCATION:Zoom\, Meeting link available after registration
CATEGORIES:National Events,National Support Groups,Support Groups
ATTACH;FMTTYPE=image/jpeg:https://scleroderma.org/wp-content/uploads/2025/09/20-support-Group-2.jpg
END:VEVENT
BEGIN:VEVENT
DTSTART;TZID=America/Chicago:20260423T173000
DTEND;TZID=America/Chicago:20260423T190000
DTSTAMP:20260422T072015
CREATED:20260113T161723Z
LAST-MODIFIED:20260116T214848Z
UID:10004249-1776965400-1776970800@scleroderma.org
SUMMARY:Wisconsin Scleroderma Support Group
DESCRIPTION:Please click here to register in advance.  \nTo register & for more information\, please email uglchapter@scleroderma.org
URL:https://scleroderma.org/event/wisconsin-scleroderma-support-group-4/2026-04-23/
LOCATION:https://scleroderma.org/event/wisconsin-scleroderma-support-group-4/2026-04-23/
CATEGORIES:Events,Support Groups,Upper Great Lakes Events,Upper Great Lakes Support Groups
ATTACH;FMTTYPE=image/png:https://scleroderma.org/wp-content/uploads/2025/09/Wisconsin.png
END:VEVENT
BEGIN:VEVENT
DTSTART;TZID=America/New_York:20260423T180000
DTEND;TZID=America/New_York:20260423T190000
DTSTAMP:20260422T072015
CREATED:20260302T213101Z
LAST-MODIFIED:20260302T213101Z
UID:10004443-1776967200-1776970800@scleroderma.org
SUMMARY:Central NC Support Group
DESCRIPTION:Support Group Meeting. To register: https://us02web.zoom.us/meeting/register/vv8D_ilsQZyHCM2FNVshWw
URL:https://scleroderma.org/event/central-nc-support-group-2/
LOCATION:Zoom\, Meeting link available after registration
CATEGORIES:Events,National Events,Southeast Chapter Events,Southeast Chapter Support Groups,Support Groups
ATTACH;FMTTYPE=image/png:https://scleroderma.org/wp-content/uploads/2025/12/Central-NC.png
END:VEVENT
BEGIN:VEVENT
DTSTART;TZID=America/New_York:20260423T190000
DTEND;TZID=America/New_York:20260423T200000
DTSTAMP:20260422T072015
CREATED:20251113T015853Z
LAST-MODIFIED:20251113T015854Z
UID:10003853-1776970800-1776974400@scleroderma.org
SUMMARY:Caregivers Support Group
DESCRIPTION:The Caregivers Support Group meets on the 4th Thursday of the month at 7:00 p.m. ET. \nClick here to register. A link to the Zoom meeting will be sent after you register.  \n 
URL:https://scleroderma.org/event/caregivers-support-group-4/2026-04-23/
LOCATION:Zoom\, Meeting link available after registration
CATEGORIES:National Events,National Support Groups,Support Groups
ATTACH;FMTTYPE=image/png:https://scleroderma.org/wp-content/uploads/2025/09/Caregivers-Support-Group.png
END:VEVENT
BEGIN:VEVENT
DTSTART;TZID=America/New_York:20260425T100000
DTEND;TZID=America/New_York:20260425T120000
DTSTAMP:20260422T072015
CREATED:20250910T223400Z
LAST-MODIFIED:20260105T204324Z
UID:10003968-1777111200-1777118400@scleroderma.org
SUMMARY:Granite State Support Group
DESCRIPTION:To register & for more information\, please email NEchapter@scleroderma.org
URL:https://scleroderma.org/event/granite-state-support-group-in-person/2026-04-25/
LOCATION:FL
CATEGORIES:Events,New England Events,New England Support Groups,Support Groups
ATTACH;FMTTYPE=image/png:https://scleroderma.org/wp-content/uploads/2025/09/Granite-State-Support-Group-1-1.png
END:VEVENT
BEGIN:VEVENT
DTSTART;TZID=America/Denver:20260425T100000
DTEND;TZID=America/Denver:20260425T120000
DTSTAMP:20260422T072015
CREATED:20260113T162330Z
LAST-MODIFIED:20260113T162331Z
UID:10004082-1777111200-1777118400@scleroderma.org
SUMMARY:Northern Colorado Support Group
DESCRIPTION:To register & for more information\, please email rmchapter@scleroderma.org \nThis group meets on the fourth Saturday of even months.
URL:https://scleroderma.org/event/northern-colorado-support-group-virtual-2/2026-04-25/
LOCATION:https://scleroderma.org/event/northern-colorado-support-group-virtual-2/2026-04-25/
CATEGORIES:Events,Rocky Mountain Events,Rocky Mountain Support Groups,Support Groups
ATTACH;FMTTYPE=image/png:https://scleroderma.org/wp-content/uploads/2025/09/Northern-Colorado-1.png
END:VEVENT
BEGIN:VEVENT
DTSTART;TZID=America/New_York:20260425T110000
DTEND;TZID=America/New_York:20260425T120000
DTSTAMP:20260422T072015
CREATED:20260223T160324Z
LAST-MODIFIED:20260223T160424Z
UID:10004411-1777114800-1777118400@scleroderma.org
SUMMARY:Mid-Atlantic Support Group
DESCRIPTION:CLICK HERE TO REGISTER
URL:https://scleroderma.org/event/mid-atlantic-support-group-3/
LOCATION:
CATEGORIES:Mid-Atlantic Events,Mid-Atlantic Support Groups,Support Groups
ATTACH;FMTTYPE=image/png:https://scleroderma.org/wp-content/uploads/2026/02/Austin-Area-Support-Group-1.png
END:VEVENT
BEGIN:VEVENT
DTSTART;TZID=America/Denver:20260427T183000
DTEND;TZID=America/Denver:20260427T193000
DTSTAMP:20260422T072015
CREATED:20251028T165645Z
LAST-MODIFIED:20251028T165647Z
UID:10003731-1777314600-1777318200@scleroderma.org
SUMMARY:Southwest Support Group
DESCRIPTION:To register & for more information\, please email rmchapter@scleroderma.org
URL:https://scleroderma.org/event/southwest-support-group-2/2026-04-27/
LOCATION:
CATEGORIES:Events,Rocky Mountain Events,Rocky Mountain Support Groups,Support Groups
ATTACH;FMTTYPE=image/png:https://scleroderma.org/wp-content/uploads/2025/09/Southwest-Support-Group.png
END:VEVENT
BEGIN:VEVENT
DTSTART;TZID=America/New_York:20260428T130000
DTEND;TZID=America/New_York:20260428T150000
DTSTAMP:20260422T072015
CREATED:20260115T194812Z
LAST-MODIFIED:20260115T194812Z
UID:10004129-1777381200-1777388400@scleroderma.org
SUMMARY:Orange County Support Group (Hybrid)
DESCRIPTION:This support group meets at the Josephine-Louise Public Library in Walden\, NY and offers a virtual option.  \nThe library is inside of Walden’s Municipal Building\, and the community room is on the second floor. You need to enter the main door of the Municipal Building instead of the library’s entrance to access the elevator.  \nContact tristatechapter@scleroderma.org for more information and to register.
URL:https://scleroderma.org/event/orange-county-support-group-hybrid-2/2026-04-28/
LOCATION:FL
CATEGORIES:Events,Support Groups,Tri-State Events,Tri-State Support Groups
ATTACH;FMTTYPE=image/png:https://scleroderma.org/wp-content/uploads/2025/09/Granite-State-Support-Group-1-2.png
END:VEVENT
BEGIN:VEVENT
DTSTART;TZID=America/New_York:20260502T093000
DTEND;TZID=America/New_York:20260502T153000
DTSTAMP:20260422T072015
CREATED:20260224T170156Z
LAST-MODIFIED:20260225T151208Z
UID:10004426-1777714200-1777735800@scleroderma.org
SUMMARY:Cleveland Clinic Education Day
DESCRIPTION:Join us for a meaningful day of connection\, education\, and empowerment. Hear directly from Cleveland Clinic specialists as they break down bloodwork\, pulmonary hypertension\, lung involvement\, and GI symptoms in ways that truly make sense. We’ll also take time to explore the emotional side of the journey through a unique\, interactive session. \nWhether you’re newly diagnosed\, a caregiver\, or have been navigating scleroderma for years\, this day is about learning\, asking questions\, and walking away feeling informed and supported.
URL:https://scleroderma.org/event/cleveland-clinic-education-day/
LOCATION:Administrative Campus Building 3\, 2050 Science Park Dr.\, Beachwood\, OH\, 44122\, United States
CATEGORIES:Events,Lower Great Lakes Events,Patient Education
ATTACH;FMTTYPE=image/jpeg:https://scleroderma.org/wp-content/uploads/2026/02/Mid-Atlantic-Patient-Education-1.jpg
END:VEVENT
BEGIN:VEVENT
DTSTART;TZID=America/Denver:20260502T100000
DTEND;TZID=America/Denver:20260502T120000
DTSTAMP:20260422T072015
CREATED:20250911T045641Z
LAST-MODIFIED:20251028T165039Z
UID:10002112-1777716000-1777723200@scleroderma.org
SUMMARY:Utah Support Group
DESCRIPTION:To register & for more information\, please email rmchapter@scleroderma.org
URL:https://scleroderma.org/event/utah-support-group/2026-05-02/
LOCATION:https://scleroderma.org/event/utah-support-group/2026-05-02/
CATEGORIES:Events,Rocky Mountain Events,Rocky Mountain Support Groups,Support Groups
ATTACH;FMTTYPE=image/png:https://scleroderma.org/wp-content/uploads/2025/09/Utah-Support-Group.png
END:VEVENT
BEGIN:VEVENT
DTSTART;TZID=America/New_York:20260502T110000
DTEND;TZID=America/New_York:20260502T130000
DTSTAMP:20260422T072015
CREATED:20250910T210536Z
LAST-MODIFIED:20260113T163859Z
UID:10001121-1777719600-1777726800@scleroderma.org
SUMMARY:Tampa Support Group
DESCRIPTION:To register & for more information\, please email floridaprchapter@scleroderma.org
URL:https://scleroderma.org/event/tampa-support-group/2026-05-02/
LOCATION:https://scleroderma.org/event/tampa-support-group/2026-05-02/
CATEGORIES:Events,Florida & Puerto Rico Events,Florida & Puerto Rico Support Groups,Support Groups
ATTACH;FMTTYPE=image/png:https://scleroderma.org/wp-content/uploads/2025/09/Tampa-Support-Group.png
END:VEVENT
BEGIN:VEVENT
DTSTART;TZID=America/New_York:20260504T173000
DTEND;TZID=America/New_York:20260504T183000
DTSTAMP:20260422T072015
CREATED:20250910T221419Z
LAST-MODIFIED:20251007T212856Z
UID:10003357-1777915800-1777919400@scleroderma.org
SUMMARY:Boardman/Youngstown Support Group
DESCRIPTION:The Boardman/Youngstown Support Group holds hybrid meetings on the first Monday of the month. The meetings are on Zoom and at Davidson’s Restaurant on Canfield Rd. in Canfield. \nTo register & for more information\, please email lglchapter@scleroderma.org.
URL:https://scleroderma.org/event/boardman-youngstown-support-group/2026-05-04/
LOCATION:https://scleroderma.org/event/boardman-youngstown-support-group/2026-05-04/
CATEGORIES:Events,Lower Great Lakes Events,Lower Great Lakes Support Groups,Support Groups
ATTACH;FMTTYPE=image/png:https://scleroderma.org/wp-content/uploads/2025/09/Boardman-Youngstown-Support.png
END:VEVENT
BEGIN:VEVENT
DTSTART;TZID=America/New_York:20260505T150000
DTEND;TZID=America/New_York:20260505T160000
DTSTAMP:20260422T072015
CREATED:20250911T000436Z
LAST-MODIFIED:20251001T162312Z
UID:10001723-1777993200-1777996800@scleroderma.org
SUMMARY:Pulmonary Arterial Hypertension Support Group
DESCRIPTION:The Pulmonary Arterial Hypertension Support Group meets on the first Tuesday of the month at 3:00 p.m. ET. \nPlease click here to register in advance. A meeting link will be shared after registration.  \nFor more information\, please email PAH@scleroderma.org.
URL:https://scleroderma.org/event/pulmonary-arterial-hypertension-support-group/2026-05-05/
LOCATION:Zoom\, Meeting link available after registration
CATEGORIES:National Events,National Support Groups,Support Groups
ATTACH;FMTTYPE=image/png:https://scleroderma.org/wp-content/uploads/2025/09/PAH-Support-Group.png
END:VEVENT
BEGIN:VEVENT
DTSTART;TZID=America/New_York:20260505T193000
DTEND;TZID=America/New_York:20260505T203000
DTSTAMP:20260422T072015
CREATED:20250911T002306Z
LAST-MODIFIED:20251001T162347Z
UID:10001844-1778009400-1778013000@scleroderma.org
SUMMARY:Teen Scleroderma Support Group
DESCRIPTION:The new Teen Support Group meets at 7:30 p.m. ET on the first Tuesday of the month. \nTo participate\, please complete this interest form. Elle Hurley\, manager of support programs\, will contact you with more information. \nEmail teenSG@scleroderma.org for more information.
URL:https://scleroderma.org/event/teen-scleroderma-support-group/2026-05-05/
LOCATION:Zoom\, Meeting link available after registration
CATEGORIES:National Events,National Support Groups,Support Groups
ATTACH;FMTTYPE=image/png:https://scleroderma.org/wp-content/uploads/2025/09/Teen-Support-Group.png
END:VEVENT
BEGIN:VEVENT
DTSTART;TZID=America/New_York:20260506T140000
DTEND;TZID=America/New_York:20260506T150000
DTSTAMP:20260422T072015
CREATED:20260114T162525Z
LAST-MODIFIED:20260330T153738Z
UID:10004123-1778076000-1778079600@scleroderma.org
SUMMARY:TealTalk: Scleroderma Awareness Month Preview
DESCRIPTION:Join us on May 6 for TealTalk: Scleroderma Awareness Month Preview. Join the discussion about how we can help raise awareness about scleroderma during the month of June and throughout the year. National Scleroderma Foundation staff members will share more information about this year’s theme\, Beacons of Hope\, and some of activities we have planned for the month. \nMeeting registration information will be available soon.
URL:https://scleroderma.org/event/tealtalk-scleroderma-awareness-month-preview/
LOCATION:Zoom\, Meeting link available after registration
CATEGORIES:Events,National Events,TealTalk
ATTACH;FMTTYPE=image/jpeg:https://scleroderma.org/wp-content/uploads/2026/01/TealTalk-Awareness_Month-Preview-1.jpg
END:VEVENT
BEGIN:VEVENT
DTSTART;TZID=America/New_York:20260506T170000
DTEND;TZID=America/New_York:20260506T180000
DTSTAMP:20260422T072015
CREATED:20250911T182008Z
LAST-MODIFIED:20260302T162617Z
UID:10002971-1778086800-1778090400@scleroderma.org
SUMMARY:Raynaud's/Scleroderma Support Group
DESCRIPTION:This support group is in-person. \nFor more information\, please email support@scleroderma.org
URL:https://scleroderma.org/event/raynauds-scleroderma-support-group-in-person/2026-05-06/
LOCATION:FL
CATEGORIES:Events,South Chapter Events,South Chapter Support Groups,Support Groups
ATTACH;FMTTYPE=image/png:https://scleroderma.org/wp-content/uploads/2025/09/Raynauds-Support-Group.png
END:VEVENT
BEGIN:VEVENT
DTSTART;TZID=America/New_York:20260506T190000
DTEND;TZID=America/New_York:20260506T200000
DTSTAMP:20260422T072015
CREATED:20250910T205050Z
LAST-MODIFIED:20250915T182847Z
UID:10000941-1778094000-1778097600@scleroderma.org
SUMMARY:Florida & Puerto Rico (Wednesday Meeting)
DESCRIPTION:To register & for more information\, please email djames@scleroderma.org
URL:https://scleroderma.org/event/florida-puerto-rico-wednesday-meeting/2026-05-06/
LOCATION:https://scleroderma.org/event/florida-puerto-rico-wednesday-meeting/2026-05-06/
CATEGORIES:Events,Florida & Puerto Rico Events,Florida & Puerto Rico Support Groups,Support Groups
ATTACH;FMTTYPE=image/png:https://scleroderma.org/wp-content/uploads/2025/09/FL-PR-Wednesday-1.png
END:VEVENT
BEGIN:VEVENT
DTSTART;TZID=America/Puerto_Rico:20260506T190000
DTEND;TZID=America/Puerto_Rico:20260506T200000
DTSTAMP:20260422T072015
CREATED:20250910T211538Z
LAST-MODIFIED:20250915T182551Z
UID:10001001-1778094000-1778097600@scleroderma.org
SUMMARY:Puerto Rico Voces Boricuas Unidas
DESCRIPTION:To register & for more information\, please email floridaprchapter@scleroderma.org
URL:https://scleroderma.org/event/puerto-rico-voces-boricuas-unidas/2026-05-06/
LOCATION:
CATEGORIES:Events,Florida & Puerto Rico Events,Florida & Puerto Rico Support Groups,Support Groups
ATTACH;FMTTYPE=image/png:https://scleroderma.org/wp-content/uploads/2025/09/PR-Voces-Boricuas-Unidas.png
END:VEVENT
BEGIN:VEVENT
DTSTART;TZID=America/New_York:20260506T190000
DTEND;TZID=America/New_York:20260506T203000
DTSTAMP:20260422T072015
CREATED:20260113T163617Z
LAST-MODIFIED:20260113T163617Z
UID:10004113-1778094000-1778099400@scleroderma.org
SUMMARY:Metro 5 Support Group (NY)
DESCRIPTION:Please email tristatechapter@scleroderma.org for more information and to register.
URL:https://scleroderma.org/event/metro-5-support-group-ny-5/
LOCATION:Zoom\, Meeting link available after registration
CATEGORIES:Events,National Events,Support Groups,Tri-State Events,Tri-State Support Groups
ATTACH;FMTTYPE=image/jpeg:https://scleroderma.org/wp-content/uploads/2025/10/Screenshot-2025-10-03-at-11.11.39-AM.jpg
END:VEVENT
BEGIN:VEVENT
DTSTART;TZID=America/New_York:20260508T150000
DTEND;TZID=America/New_York:20260508T160000
DTSTAMP:20260422T072015
CREATED:20260212T151744Z
LAST-MODIFIED:20260212T152004Z
UID:10004405-1778252400-1778256000@scleroderma.org
SUMMARY:ILD in Systemic Sclerosis: Understanding Progression and Treatment Options
DESCRIPTION:This webinar will feature:\n\nFrancesco Boin\, MDProfessor of MedicineDirector\, Division of RheumatologyDirector\, Kao Multispecialty Scleroderma ProgramCedars-Sinai Medical Center \nCLICK HERE TO REGISTER IN ADVANCE
URL:https://scleroderma.org/event/ild-in-systemic-sclerosis-understanding-progression-and-treatment-options/
LOCATION:
CATEGORIES:Events,National Events,Patient Education
ATTACH;FMTTYPE=image/jpeg:https://scleroderma.org/wp-content/uploads/2026/02/Educational-Webinar-dec-12-1.jpg
END:VEVENT
BEGIN:VEVENT
DTSTART;TZID=America/New_York:20260509T093000
DTEND;TZID=America/New_York:20260509T103000
DTSTAMP:20260422T072015
CREATED:20250911T184836Z
LAST-MODIFIED:20250915T212907Z
UID:10002573-1778319000-1778322600@scleroderma.org
SUMMARY:Autoimmune & Scleroderma Support Group
DESCRIPTION:To register & for more information\, please email pcollins@scleroderma.org
URL:https://scleroderma.org/event/autoimmune-scleroderma-support-group/2026-05-09/
LOCATION:
CATEGORIES:Events,Support Groups,Upper Great Lakes Events,Upper Great Lakes Support Groups
ATTACH;FMTTYPE=image/png:https://scleroderma.org/wp-content/uploads/2025/09/Autoimmune-and-Scleroderma.png
END:VEVENT
BEGIN:VEVENT
DTSTART;TZID=America/Denver:20260509T100000
DTEND;TZID=America/Denver:20260509T110000
DTSTAMP:20260422T072015
CREATED:20250911T043821Z
LAST-MODIFIED:20251216T062946Z
UID:10001963-1778320800-1778324400@scleroderma.org
SUMMARY:Denver Support Group
DESCRIPTION:The Denver Mile High Support Group is hybrid and meets on the second Saturday of every month. Starting in January and through April\, the meetings will only be held virtually. \nTo register & for more information\, please email rmchapter@scleroderma.org \n 
URL:https://scleroderma.org/event/denver-support-group-hybrid/2026-05-09/
LOCATION:https://scleroderma.org/event/denver-support-group-hybrid/2026-05-09/
CATEGORIES:Events,Rocky Mountain Events,Rocky Mountain Support Groups,Support Groups
ATTACH;FMTTYPE=image/png:https://scleroderma.org/wp-content/uploads/2025/09/Denver-Support-Group.png
END:VEVENT
BEGIN:VEVENT
DTSTART;TZID=America/New_York:20260509T100000
DTEND;TZID=America/New_York:20260509T113000
DTSTAMP:20260422T072015
CREATED:20250910T210233Z
LAST-MODIFIED:20251020T180315Z
UID:10003490-1778320800-1778326200@scleroderma.org
SUMMARY:Teal Hearts of Jacksonville
DESCRIPTION:For more information\, please email floridaprchapter@scleroderma.org \nUse this link to register in advance: https://us02web.zoom.us/meeting/register/qWft8jCtQk6HUjt_qnfyrQ#/
URL:https://scleroderma.org/event/teal-hearts-of-jacksonville/2026-05-09/
LOCATION:
CATEGORIES:Events,Florida & Puerto Rico Events,Florida & Puerto Rico Support Groups,Support Groups
ATTACH;FMTTYPE=image/png:https://scleroderma.org/wp-content/uploads/2025/09/Jacksonville-Teal-Hearts.png
END:VEVENT
BEGIN:VEVENT
DTSTART;TZID=America/New_York:20260509T100000
DTEND;TZID=America/New_York:20260509T113000
DTSTAMP:20260422T072015
CREATED:20251020T180144Z
LAST-MODIFIED:20251020T180145Z
UID:10000672-1778320800-1778326200@scleroderma.org
SUMMARY:Teal Hearts of Jacksonville
DESCRIPTION:For more information\, please email floridaprchapter@scleroderma.org \nUse this link to register in advance: https://us02web.zoom.us/meeting/register/qWft8jCtQk6HUjt_qnfyrQ#/
URL:https://scleroderma.org/event/teal-hearts-of-jacksonville-2/2026-05-09/
LOCATION:
CATEGORIES:Events,Florida & Puerto Rico Events,Florida & Puerto Rico Support Groups,Support Groups
ATTACH;FMTTYPE=image/png:https://scleroderma.org/wp-content/uploads/2025/09/Jacksonville-Teal-Hearts.png
END:VEVENT
BEGIN:VEVENT
DTSTART;TZID=America/Los_Angeles:20260509T100000
DTEND;TZID=America/Los_Angeles:20260509T120000
DTSTAMP:20260422T072015
CREATED:20250911T190441Z
LAST-MODIFIED:20251017T185552Z
UID:10003426-1778320800-1778328000@scleroderma.org
SUMMARY:Pacific Northwest Support Group
DESCRIPTION:To register & for more information\, please email cfidalgo@scleroderma.org
URL:https://scleroderma.org/event/pacific-northwest-support-group/2026-05-09/
LOCATION:https://scleroderma.org/event/pacific-northwest-support-group/2026-05-09/
CATEGORIES:Events,Pacific Northwest Events,Pacific Northwest Support Groups,Support Groups
ATTACH;FMTTYPE=image/png:https://scleroderma.org/wp-content/uploads/2025/09/Pacific-Northwest-Support-Group.png
END:VEVENT
BEGIN:VEVENT
DTSTART;TZID=America/New_York:20260509T103000
DTEND;TZID=America/New_York:20260509T113000
DTSTAMP:20260422T072015
CREATED:20250910T211127Z
LAST-MODIFIED:20250930T232012Z
UID:10000728-1778322600-1778326200@scleroderma.org
SUMMARY:Central Florida Support Group
DESCRIPTION:For more information\, please email floridaprchapter@scleroderma.org \nUse this link to register in advance: Meeting Registration – Zoom \nThis support group only meets during the odd months of the year. \n 
URL:https://scleroderma.org/event/central-florida-support-group/2026-05-09/
LOCATION:
CATEGORIES:Events,Florida & Puerto Rico Events,Florida & Puerto Rico Support Groups,Support Groups
ATTACH;FMTTYPE=image/png:https://scleroderma.org/wp-content/uploads/2025/09/Central-Florida.png
END:VEVENT
BEGIN:VEVENT
DTSTART;TZID=America/New_York:20260509T110000
DTEND;TZID=America/New_York:20260509T120000
DTSTAMP:20260422T072015
CREATED:20250910T230155Z
LAST-MODIFIED:20251001T162528Z
UID:10001421-1778324400-1778328000@scleroderma.org
SUMMARY:Grupo de Apoyo Conexión en Español
DESCRIPTION:Segundo sábado del mes a las 11:00 a.m. ET \n📩 Tras registrarse\, recibirá un correo de confirmación con el enlace para unirse al evento. \nEnvíe un correo electrónico a support@scleroderma.org para obtener más información.
URL:https://scleroderma.org/event/grupo-de-apoyo-conexion-en-espanol/2026-05-09/
LOCATION:https://scleroderma.org/event/grupo-de-apoyo-conexion-en-espanol/2026-05-09/
CATEGORIES:Florida & Puerto Rico Support Groups,National Events,National Support Groups,Support Groups
ATTACH;FMTTYPE=image/png:https://scleroderma.org/wp-content/uploads/2025/09/Conexion-en-Espanol.png
END:VEVENT
BEGIN:VEVENT
DTSTART;TZID=America/New_York:20260509T110000
DTEND;TZID=America/New_York:20260509T120000
DTSTAMP:20260422T072015
CREATED:20250911T182657Z
LAST-MODIFIED:20250915T212625Z
UID:10002313-1778324400-1778328000@scleroderma.org
SUMMARY:South Carolina Support Group
DESCRIPTION:To register & for more information\, please email sechapter@scleroderma.org
URL:https://scleroderma.org/event/south-carolina-support-group/2026-05-09/
LOCATION:https://scleroderma.org/event/south-carolina-support-group/2026-05-09/
CATEGORIES:Events,Southeast Chapter Events,Southeast Chapter Support Groups,Support Groups
ATTACH;FMTTYPE=image/png:https://scleroderma.org/wp-content/uploads/2025/09/Support-Group-Calendar-Feature-Image-3.png
END:VEVENT
END:VCALENDAR