BEGIN:VCALENDAR
VERSION:2.0
PRODID:-//National Scleroderma Foundation - ECPv6.15.20//NONSGML v1.0//EN
CALSCALE:GREGORIAN
METHOD:PUBLISH
X-WR-CALNAME:National Scleroderma Foundation
X-ORIGINAL-URL:https://scleroderma.org
X-WR-CALDESC:Events for National Scleroderma Foundation
REFRESH-INTERVAL;VALUE=DURATION:PT1H
X-Robots-Tag:noindex
X-PUBLISHED-TTL:PT1H
BEGIN:VTIMEZONE
TZID:America/New_York
BEGIN:DAYLIGHT
TZOFFSETFROM:-0500
TZOFFSETTO:-0400
TZNAME:EDT
DTSTART:20250309T070000
END:DAYLIGHT
BEGIN:STANDARD
TZOFFSETFROM:-0400
TZOFFSETTO:-0500
TZNAME:EST
DTSTART:20251102T060000
END:STANDARD
BEGIN:DAYLIGHT
TZOFFSETFROM:-0500
TZOFFSETTO:-0400
TZNAME:EDT
DTSTART:20260308T070000
END:DAYLIGHT
BEGIN:STANDARD
TZOFFSETFROM:-0400
TZOFFSETTO:-0500
TZNAME:EST
DTSTART:20261101T060000
END:STANDARD
BEGIN:DAYLIGHT
TZOFFSETFROM:-0500
TZOFFSETTO:-0400
TZNAME:EDT
DTSTART:20270314T070000
END:DAYLIGHT
BEGIN:STANDARD
TZOFFSETFROM:-0400
TZOFFSETTO:-0500
TZNAME:EST
DTSTART:20271107T060000
END:STANDARD
BEGIN:DAYLIGHT
TZOFFSETFROM:-0500
TZOFFSETTO:-0400
TZNAME:EDT
DTSTART:20280312T070000
END:DAYLIGHT
BEGIN:STANDARD
TZOFFSETFROM:-0400
TZOFFSETTO:-0500
TZNAME:EST
DTSTART:20281105T060000
END:STANDARD
BEGIN:DAYLIGHT
TZOFFSETFROM:-0500
TZOFFSETTO:-0400
TZNAME:EDT
DTSTART:20290311T070000
END:DAYLIGHT
BEGIN:STANDARD
TZOFFSETFROM:-0400
TZOFFSETTO:-0500
TZNAME:EST
DTSTART:20291104T060000
END:STANDARD
END:VTIMEZONE
BEGIN:VEVENT
DTSTART;TZID=America/New_York:20260506T170000
DTEND;TZID=America/New_York:20260506T180000
DTSTAMP:20260420T085326
CREATED:20250911T182008Z
LAST-MODIFIED:20260302T162617Z
UID:10002971-1778086800-1778090400@scleroderma.org
SUMMARY:Raynaud's/Scleroderma Support Group
DESCRIPTION:This support group is in-person. \nFor more information\, please email support@scleroderma.org
URL:https://scleroderma.org/event/raynauds-scleroderma-support-group-in-person/2026-05-06/
CATEGORIES:Events,South Chapter Events,South Chapter Support Groups,Support Groups
ATTACH;FMTTYPE=image/png:https://scleroderma.org/wp-content/uploads/2025/09/Raynauds-Support-Group.png
END:VEVENT
BEGIN:VEVENT
DTSTART;TZID=America/New_York:20260603T170000
DTEND;TZID=America/New_York:20260603T180000
DTSTAMP:20260420T085326
CREATED:20250911T182008Z
LAST-MODIFIED:20260302T162617Z
UID:10002972-1780506000-1780509600@scleroderma.org
SUMMARY:Raynaud's/Scleroderma Support Group
DESCRIPTION:This support group is in-person. \nFor more information\, please email support@scleroderma.org
URL:https://scleroderma.org/event/raynauds-scleroderma-support-group-in-person/2026-06-03/
CATEGORIES:Events,South Chapter Events,South Chapter Support Groups,Support Groups
ATTACH;FMTTYPE=image/png:https://scleroderma.org/wp-content/uploads/2025/09/Raynauds-Support-Group.png
END:VEVENT
BEGIN:VEVENT
DTSTART;TZID=America/New_York:20260701T170000
DTEND;TZID=America/New_York:20260701T180000
DTSTAMP:20260420T085326
CREATED:20250911T182008Z
LAST-MODIFIED:20260302T162617Z
UID:10002973-1782925200-1782928800@scleroderma.org
SUMMARY:Raynaud's/Scleroderma Support Group
DESCRIPTION:This support group is in-person. \nFor more information\, please email support@scleroderma.org
URL:https://scleroderma.org/event/raynauds-scleroderma-support-group-in-person/2026-07-01/
CATEGORIES:Events,South Chapter Events,South Chapter Support Groups,Support Groups
ATTACH;FMTTYPE=image/png:https://scleroderma.org/wp-content/uploads/2025/09/Raynauds-Support-Group.png
END:VEVENT
BEGIN:VEVENT
DTSTART;TZID=America/New_York:20260805T170000
DTEND;TZID=America/New_York:20260805T180000
DTSTAMP:20260420T085326
CREATED:20250911T182008Z
LAST-MODIFIED:20260302T162617Z
UID:10002974-1785949200-1785952800@scleroderma.org
SUMMARY:Raynaud's/Scleroderma Support Group
DESCRIPTION:This support group is in-person. \nFor more information\, please email support@scleroderma.org
URL:https://scleroderma.org/event/raynauds-scleroderma-support-group-in-person/2026-08-05/
CATEGORIES:Events,South Chapter Events,South Chapter Support Groups,Support Groups
ATTACH;FMTTYPE=image/png:https://scleroderma.org/wp-content/uploads/2025/09/Raynauds-Support-Group.png
END:VEVENT
BEGIN:VEVENT
DTSTART;TZID=America/New_York:20260902T170000
DTEND;TZID=America/New_York:20260902T180000
DTSTAMP:20260420T085326
CREATED:20250911T182008Z
LAST-MODIFIED:20260302T162617Z
UID:10002975-1788368400-1788372000@scleroderma.org
SUMMARY:Raynaud's/Scleroderma Support Group
DESCRIPTION:This support group is in-person. \nFor more information\, please email support@scleroderma.org
URL:https://scleroderma.org/event/raynauds-scleroderma-support-group-in-person/2026-09-02/
CATEGORIES:Events,South Chapter Events,South Chapter Support Groups,Support Groups
ATTACH;FMTTYPE=image/png:https://scleroderma.org/wp-content/uploads/2025/09/Raynauds-Support-Group.png
END:VEVENT
BEGIN:VEVENT
DTSTART;TZID=America/New_York:20261007T170000
DTEND;TZID=America/New_York:20261007T180000
DTSTAMP:20260420T085326
CREATED:20250911T182008Z
LAST-MODIFIED:20260302T162617Z
UID:10002976-1791392400-1791396000@scleroderma.org
SUMMARY:Raynaud's/Scleroderma Support Group
DESCRIPTION:This support group is in-person. \nFor more information\, please email support@scleroderma.org
URL:https://scleroderma.org/event/raynauds-scleroderma-support-group-in-person/2026-10-07/
CATEGORIES:Events,South Chapter Events,South Chapter Support Groups,Support Groups
ATTACH;FMTTYPE=image/png:https://scleroderma.org/wp-content/uploads/2025/09/Raynauds-Support-Group.png
END:VEVENT
BEGIN:VEVENT
DTSTART;TZID=America/New_York:20261104T170000
DTEND;TZID=America/New_York:20261104T180000
DTSTAMP:20260420T085326
CREATED:20250911T182008Z
LAST-MODIFIED:20260302T162617Z
UID:10002977-1793811600-1793815200@scleroderma.org
SUMMARY:Raynaud's/Scleroderma Support Group
DESCRIPTION:This support group is in-person. \nFor more information\, please email support@scleroderma.org
URL:https://scleroderma.org/event/raynauds-scleroderma-support-group-in-person/2026-11-04/
CATEGORIES:Events,South Chapter Events,South Chapter Support Groups,Support Groups
ATTACH;FMTTYPE=image/png:https://scleroderma.org/wp-content/uploads/2025/09/Raynauds-Support-Group.png
END:VEVENT
BEGIN:VEVENT
DTSTART;TZID=America/New_York:20261202T170000
DTEND;TZID=America/New_York:20261202T180000
DTSTAMP:20260420T085326
CREATED:20250911T182008Z
LAST-MODIFIED:20260302T162617Z
UID:10002978-1796230800-1796234400@scleroderma.org
SUMMARY:Raynaud's/Scleroderma Support Group
DESCRIPTION:This support group is in-person. \nFor more information\, please email support@scleroderma.org
URL:https://scleroderma.org/event/raynauds-scleroderma-support-group-in-person/2026-12-02/
CATEGORIES:Events,South Chapter Events,South Chapter Support Groups,Support Groups
ATTACH;FMTTYPE=image/png:https://scleroderma.org/wp-content/uploads/2025/09/Raynauds-Support-Group.png
END:VEVENT
BEGIN:VEVENT
DTSTART;TZID=America/New_York:20270106T170000
DTEND;TZID=America/New_York:20270106T180000
DTSTAMP:20260420T085326
CREATED:20250911T182008Z
LAST-MODIFIED:20260302T162617Z
UID:10002979-1799254800-1799258400@scleroderma.org
SUMMARY:Raynaud's/Scleroderma Support Group
DESCRIPTION:This support group is in-person. \nFor more information\, please email support@scleroderma.org
URL:https://scleroderma.org/event/raynauds-scleroderma-support-group-in-person/2027-01-06/
CATEGORIES:Events,South Chapter Events,South Chapter Support Groups,Support Groups
ATTACH;FMTTYPE=image/png:https://scleroderma.org/wp-content/uploads/2025/09/Raynauds-Support-Group.png
END:VEVENT
BEGIN:VEVENT
DTSTART;TZID=America/New_York:20270203T170000
DTEND;TZID=America/New_York:20270203T180000
DTSTAMP:20260420T085326
CREATED:20250911T182008Z
LAST-MODIFIED:20260302T162617Z
UID:10002980-1801674000-1801677600@scleroderma.org
SUMMARY:Raynaud's/Scleroderma Support Group
DESCRIPTION:This support group is in-person. \nFor more information\, please email support@scleroderma.org
URL:https://scleroderma.org/event/raynauds-scleroderma-support-group-in-person/2027-02-03/
CATEGORIES:Events,South Chapter Events,South Chapter Support Groups,Support Groups
ATTACH;FMTTYPE=image/png:https://scleroderma.org/wp-content/uploads/2025/09/Raynauds-Support-Group.png
END:VEVENT
BEGIN:VEVENT
DTSTART;TZID=America/New_York:20270303T170000
DTEND;TZID=America/New_York:20270303T180000
DTSTAMP:20260420T085326
CREATED:20250911T182008Z
LAST-MODIFIED:20260302T162617Z
UID:10002981-1804093200-1804096800@scleroderma.org
SUMMARY:Raynaud's/Scleroderma Support Group
DESCRIPTION:This support group is in-person. \nFor more information\, please email support@scleroderma.org
URL:https://scleroderma.org/event/raynauds-scleroderma-support-group-in-person/2027-03-03/
CATEGORIES:Events,South Chapter Events,South Chapter Support Groups,Support Groups
ATTACH;FMTTYPE=image/png:https://scleroderma.org/wp-content/uploads/2025/09/Raynauds-Support-Group.png
END:VEVENT
BEGIN:VEVENT
DTSTART;TZID=America/New_York:20270407T170000
DTEND;TZID=America/New_York:20270407T180000
DTSTAMP:20260420T085326
CREATED:20250911T182008Z
LAST-MODIFIED:20260302T162617Z
UID:10002982-1807117200-1807120800@scleroderma.org
SUMMARY:Raynaud's/Scleroderma Support Group
DESCRIPTION:This support group is in-person. \nFor more information\, please email support@scleroderma.org
URL:https://scleroderma.org/event/raynauds-scleroderma-support-group-in-person/2027-04-07/
CATEGORIES:Events,South Chapter Events,South Chapter Support Groups,Support Groups
ATTACH;FMTTYPE=image/png:https://scleroderma.org/wp-content/uploads/2025/09/Raynauds-Support-Group.png
END:VEVENT
BEGIN:VEVENT
DTSTART;TZID=America/New_York:20270505T170000
DTEND;TZID=America/New_York:20270505T180000
DTSTAMP:20260420T085326
CREATED:20250911T182008Z
LAST-MODIFIED:20260302T162617Z
UID:10002983-1809536400-1809540000@scleroderma.org
SUMMARY:Raynaud's/Scleroderma Support Group
DESCRIPTION:This support group is in-person. \nFor more information\, please email support@scleroderma.org
URL:https://scleroderma.org/event/raynauds-scleroderma-support-group-in-person/2027-05-05/
CATEGORIES:Events,South Chapter Events,South Chapter Support Groups,Support Groups
ATTACH;FMTTYPE=image/png:https://scleroderma.org/wp-content/uploads/2025/09/Raynauds-Support-Group.png
END:VEVENT
BEGIN:VEVENT
DTSTART;TZID=America/New_York:20270602T170000
DTEND;TZID=America/New_York:20270602T180000
DTSTAMP:20260420T085326
CREATED:20250911T182008Z
LAST-MODIFIED:20260302T162617Z
UID:10002984-1811955600-1811959200@scleroderma.org
SUMMARY:Raynaud's/Scleroderma Support Group
DESCRIPTION:This support group is in-person. \nFor more information\, please email support@scleroderma.org
URL:https://scleroderma.org/event/raynauds-scleroderma-support-group-in-person/2027-06-02/
CATEGORIES:Events,South Chapter Events,South Chapter Support Groups,Support Groups
ATTACH;FMTTYPE=image/png:https://scleroderma.org/wp-content/uploads/2025/09/Raynauds-Support-Group.png
END:VEVENT
BEGIN:VEVENT
DTSTART;TZID=America/New_York:20270707T170000
DTEND;TZID=America/New_York:20270707T180000
DTSTAMP:20260420T085326
CREATED:20250911T182008Z
LAST-MODIFIED:20260302T162617Z
UID:10002985-1814979600-1814983200@scleroderma.org
SUMMARY:Raynaud's/Scleroderma Support Group
DESCRIPTION:This support group is in-person. \nFor more information\, please email support@scleroderma.org
URL:https://scleroderma.org/event/raynauds-scleroderma-support-group-in-person/2027-07-07/
CATEGORIES:Events,South Chapter Events,South Chapter Support Groups,Support Groups
ATTACH;FMTTYPE=image/png:https://scleroderma.org/wp-content/uploads/2025/09/Raynauds-Support-Group.png
END:VEVENT
BEGIN:VEVENT
DTSTART;TZID=America/New_York:20270804T170000
DTEND;TZID=America/New_York:20270804T180000
DTSTAMP:20260420T085326
CREATED:20250911T182008Z
LAST-MODIFIED:20260302T162617Z
UID:10002986-1817398800-1817402400@scleroderma.org
SUMMARY:Raynaud's/Scleroderma Support Group
DESCRIPTION:This support group is in-person. \nFor more information\, please email support@scleroderma.org
URL:https://scleroderma.org/event/raynauds-scleroderma-support-group-in-person/2027-08-04/
CATEGORIES:Events,South Chapter Events,South Chapter Support Groups,Support Groups
ATTACH;FMTTYPE=image/png:https://scleroderma.org/wp-content/uploads/2025/09/Raynauds-Support-Group.png
END:VEVENT
BEGIN:VEVENT
DTSTART;TZID=America/New_York:20270901T170000
DTEND;TZID=America/New_York:20270901T180000
DTSTAMP:20260420T085326
CREATED:20250911T182008Z
LAST-MODIFIED:20260302T162617Z
UID:10002987-1819818000-1819821600@scleroderma.org
SUMMARY:Raynaud's/Scleroderma Support Group
DESCRIPTION:This support group is in-person. \nFor more information\, please email support@scleroderma.org
URL:https://scleroderma.org/event/raynauds-scleroderma-support-group-in-person/2027-09-01/
CATEGORIES:Events,South Chapter Events,South Chapter Support Groups,Support Groups
ATTACH;FMTTYPE=image/png:https://scleroderma.org/wp-content/uploads/2025/09/Raynauds-Support-Group.png
END:VEVENT
BEGIN:VEVENT
DTSTART;TZID=America/New_York:20271006T170000
DTEND;TZID=America/New_York:20271006T180000
DTSTAMP:20260420T085326
CREATED:20250911T182008Z
LAST-MODIFIED:20260302T162617Z
UID:10002988-1822842000-1822845600@scleroderma.org
SUMMARY:Raynaud's/Scleroderma Support Group
DESCRIPTION:This support group is in-person. \nFor more information\, please email support@scleroderma.org
URL:https://scleroderma.org/event/raynauds-scleroderma-support-group-in-person/2027-10-06/
CATEGORIES:Events,South Chapter Events,South Chapter Support Groups,Support Groups
ATTACH;FMTTYPE=image/png:https://scleroderma.org/wp-content/uploads/2025/09/Raynauds-Support-Group.png
END:VEVENT
BEGIN:VEVENT
DTSTART;TZID=America/New_York:20271103T170000
DTEND;TZID=America/New_York:20271103T180000
DTSTAMP:20260420T085326
CREATED:20250911T182008Z
LAST-MODIFIED:20260302T162617Z
UID:10002989-1825261200-1825264800@scleroderma.org
SUMMARY:Raynaud's/Scleroderma Support Group
DESCRIPTION:This support group is in-person. \nFor more information\, please email support@scleroderma.org
URL:https://scleroderma.org/event/raynauds-scleroderma-support-group-in-person/2027-11-03/
CATEGORIES:Events,South Chapter Events,South Chapter Support Groups,Support Groups
ATTACH;FMTTYPE=image/png:https://scleroderma.org/wp-content/uploads/2025/09/Raynauds-Support-Group.png
END:VEVENT
BEGIN:VEVENT
DTSTART;TZID=America/New_York:20271201T170000
DTEND;TZID=America/New_York:20271201T180000
DTSTAMP:20260420T085326
CREATED:20250911T182008Z
LAST-MODIFIED:20260302T162617Z
UID:10002990-1827680400-1827684000@scleroderma.org
SUMMARY:Raynaud's/Scleroderma Support Group
DESCRIPTION:This support group is in-person. \nFor more information\, please email support@scleroderma.org
URL:https://scleroderma.org/event/raynauds-scleroderma-support-group-in-person/2027-12-01/
CATEGORIES:Events,South Chapter Events,South Chapter Support Groups,Support Groups
ATTACH;FMTTYPE=image/png:https://scleroderma.org/wp-content/uploads/2025/09/Raynauds-Support-Group.png
END:VEVENT
BEGIN:VEVENT
DTSTART;TZID=America/New_York:20280105T170000
DTEND;TZID=America/New_York:20280105T180000
DTSTAMP:20260420T085326
CREATED:20250911T182008Z
LAST-MODIFIED:20260302T162617Z
UID:10002991-1830704400-1830708000@scleroderma.org
SUMMARY:Raynaud's/Scleroderma Support Group
DESCRIPTION:This support group is in-person. \nFor more information\, please email support@scleroderma.org
URL:https://scleroderma.org/event/raynauds-scleroderma-support-group-in-person/2028-01-05/
CATEGORIES:Events,South Chapter Events,South Chapter Support Groups,Support Groups
ATTACH;FMTTYPE=image/png:https://scleroderma.org/wp-content/uploads/2025/09/Raynauds-Support-Group.png
END:VEVENT
BEGIN:VEVENT
DTSTART;TZID=America/New_York:20280202T170000
DTEND;TZID=America/New_York:20280202T180000
DTSTAMP:20260420T085326
CREATED:20250911T182008Z
LAST-MODIFIED:20260302T162617Z
UID:10002992-1833123600-1833127200@scleroderma.org
SUMMARY:Raynaud's/Scleroderma Support Group
DESCRIPTION:This support group is in-person. \nFor more information\, please email support@scleroderma.org
URL:https://scleroderma.org/event/raynauds-scleroderma-support-group-in-person/2028-02-02/
CATEGORIES:Events,South Chapter Events,South Chapter Support Groups,Support Groups
ATTACH;FMTTYPE=image/png:https://scleroderma.org/wp-content/uploads/2025/09/Raynauds-Support-Group.png
END:VEVENT
BEGIN:VEVENT
DTSTART;TZID=America/New_York:20280301T170000
DTEND;TZID=America/New_York:20280301T180000
DTSTAMP:20260420T085326
CREATED:20250911T182008Z
LAST-MODIFIED:20260302T162617Z
UID:10002993-1835542800-1835546400@scleroderma.org
SUMMARY:Raynaud's/Scleroderma Support Group
DESCRIPTION:This support group is in-person. \nFor more information\, please email support@scleroderma.org
URL:https://scleroderma.org/event/raynauds-scleroderma-support-group-in-person/2028-03-01/
CATEGORIES:Events,South Chapter Events,South Chapter Support Groups,Support Groups
ATTACH;FMTTYPE=image/png:https://scleroderma.org/wp-content/uploads/2025/09/Raynauds-Support-Group.png
END:VEVENT
BEGIN:VEVENT
DTSTART;TZID=America/New_York:20280405T170000
DTEND;TZID=America/New_York:20280405T180000
DTSTAMP:20260420T085326
CREATED:20250911T182008Z
LAST-MODIFIED:20260302T162617Z
UID:10002994-1838566800-1838570400@scleroderma.org
SUMMARY:Raynaud's/Scleroderma Support Group
DESCRIPTION:This support group is in-person. \nFor more information\, please email support@scleroderma.org
URL:https://scleroderma.org/event/raynauds-scleroderma-support-group-in-person/2028-04-05/
CATEGORIES:Events,South Chapter Events,South Chapter Support Groups,Support Groups
ATTACH;FMTTYPE=image/png:https://scleroderma.org/wp-content/uploads/2025/09/Raynauds-Support-Group.png
END:VEVENT
BEGIN:VEVENT
DTSTART;TZID=America/New_York:20280503T170000
DTEND;TZID=America/New_York:20280503T180000
DTSTAMP:20260420T085326
CREATED:20250911T182008Z
LAST-MODIFIED:20260302T162617Z
UID:10002995-1840986000-1840989600@scleroderma.org
SUMMARY:Raynaud's/Scleroderma Support Group
DESCRIPTION:This support group is in-person. \nFor more information\, please email support@scleroderma.org
URL:https://scleroderma.org/event/raynauds-scleroderma-support-group-in-person/2028-05-03/
CATEGORIES:Events,South Chapter Events,South Chapter Support Groups,Support Groups
ATTACH;FMTTYPE=image/png:https://scleroderma.org/wp-content/uploads/2025/09/Raynauds-Support-Group.png
END:VEVENT
BEGIN:VEVENT
DTSTART;TZID=America/New_York:20280607T170000
DTEND;TZID=America/New_York:20280607T180000
DTSTAMP:20260420T085326
CREATED:20250911T182008Z
LAST-MODIFIED:20260302T162617Z
UID:10002996-1844010000-1844013600@scleroderma.org
SUMMARY:Raynaud's/Scleroderma Support Group
DESCRIPTION:This support group is in-person. \nFor more information\, please email support@scleroderma.org
URL:https://scleroderma.org/event/raynauds-scleroderma-support-group-in-person/2028-06-07/
CATEGORIES:Events,South Chapter Events,South Chapter Support Groups,Support Groups
ATTACH;FMTTYPE=image/png:https://scleroderma.org/wp-content/uploads/2025/09/Raynauds-Support-Group.png
END:VEVENT
BEGIN:VEVENT
DTSTART;TZID=America/New_York:20280705T170000
DTEND;TZID=America/New_York:20280705T180000
DTSTAMP:20260420T085326
CREATED:20250911T182008Z
LAST-MODIFIED:20260302T162617Z
UID:10002997-1846429200-1846432800@scleroderma.org
SUMMARY:Raynaud's/Scleroderma Support Group
DESCRIPTION:This support group is in-person. \nFor more information\, please email support@scleroderma.org
URL:https://scleroderma.org/event/raynauds-scleroderma-support-group-in-person/2028-07-05/
CATEGORIES:Events,South Chapter Events,South Chapter Support Groups,Support Groups
ATTACH;FMTTYPE=image/png:https://scleroderma.org/wp-content/uploads/2025/09/Raynauds-Support-Group.png
END:VEVENT
BEGIN:VEVENT
DTSTART;TZID=America/New_York:20280802T170000
DTEND;TZID=America/New_York:20280802T180000
DTSTAMP:20260420T085326
CREATED:20250911T182008Z
LAST-MODIFIED:20260302T162617Z
UID:10002998-1848848400-1848852000@scleroderma.org
SUMMARY:Raynaud's/Scleroderma Support Group
DESCRIPTION:This support group is in-person. \nFor more information\, please email support@scleroderma.org
URL:https://scleroderma.org/event/raynauds-scleroderma-support-group-in-person/2028-08-02/
CATEGORIES:Events,South Chapter Events,South Chapter Support Groups,Support Groups
ATTACH;FMTTYPE=image/png:https://scleroderma.org/wp-content/uploads/2025/09/Raynauds-Support-Group.png
END:VEVENT
BEGIN:VEVENT
DTSTART;TZID=America/New_York:20280906T170000
DTEND;TZID=America/New_York:20280906T180000
DTSTAMP:20260420T085326
CREATED:20250911T182008Z
LAST-MODIFIED:20260302T162617Z
UID:10002999-1851872400-1851876000@scleroderma.org
SUMMARY:Raynaud's/Scleroderma Support Group
DESCRIPTION:This support group is in-person. \nFor more information\, please email support@scleroderma.org
URL:https://scleroderma.org/event/raynauds-scleroderma-support-group-in-person/2028-09-06/
CATEGORIES:Events,South Chapter Events,South Chapter Support Groups,Support Groups
ATTACH;FMTTYPE=image/png:https://scleroderma.org/wp-content/uploads/2025/09/Raynauds-Support-Group.png
END:VEVENT
BEGIN:VEVENT
DTSTART;TZID=America/New_York:20281004T170000
DTEND;TZID=America/New_York:20281004T180000
DTSTAMP:20260420T085326
CREATED:20250911T182008Z
LAST-MODIFIED:20260302T162617Z
UID:10003000-1854291600-1854295200@scleroderma.org
SUMMARY:Raynaud's/Scleroderma Support Group
DESCRIPTION:This support group is in-person. \nFor more information\, please email support@scleroderma.org
URL:https://scleroderma.org/event/raynauds-scleroderma-support-group-in-person/2028-10-04/
CATEGORIES:Events,South Chapter Events,South Chapter Support Groups,Support Groups
ATTACH;FMTTYPE=image/png:https://scleroderma.org/wp-content/uploads/2025/09/Raynauds-Support-Group.png
END:VEVENT
END:VCALENDAR